
BEGIN:VCALENDAR
VERSION:2.0
PRODID:-//wp-events-plugin.com//7.2.3.1//EN
BEGIN:VEVENT
UID:40@molinetownship.com
DTSTART:20210628T183000Z
DTEND:20210628T203000Z
DTSTAMP:20210628T191309Z
URL:https://www.molinetownship.com/events/river-city-6-06-28-2021/
SUMMARY:River City 6 (CANCELED)
DESCRIPTION:With musical entertainment selections spanning over 125 years -
  ranging from Jelly Roll to James Brown\, Sinatra &amp\; Ellington to Pats
 y Cline\, Bix Beiderbecke to Jump\, Jive &amp\; Wail …\n\nRiverCity 6 ha
 s something for Everyone!\n\nThis concert has been CANCELED due to the wea
 ther!
ATTACH;FMTTYPE=image/jpeg:https://www.molinetownship.com/wp-content/upload
 s/2020/03/river_city_6_header_1500x650.jpg
CATEGORIES:MAC
LOCATION:Moline Township Activity Center\, 620 18th Street\, Moline\, IL\, 
 IL\, 61265\, United States
X-APPLE-STRUCTURED-LOCATION;VALUE=URI;X-ADDRESS=620 18th Street\, Moline\, 
 IL\, IL\, 61265\, United States;X-APPLE-RADIUS=100;X-TITLE=Moline Township
  Activity Center:geo:0,0
END:VEVENT
END:VCALENDAR