
BEGIN:VCALENDAR
VERSION:2.0
PRODID:-//wp-events-plugin.com//7.2.3.1//EN
BEGIN:VEVENT
UID:37@molinetownship.com
DTSTART:20210607T183000Z
DTEND:20210607T203000Z
DTSTAMP:20210607T231324Z
URL:https://www.molinetownship.com/events/gray-wolf-band-06-07-2021/
SUMMARY:Gray Wolf Band (Canceled)
DESCRIPTION:Tonight's concert has been CANCELED!!!\n\nThe Gray Wolf concert
  scheduled for 06/07/2021 has been canceled due to the weather.  They hav
 e been rescheduled for August 9th\, 2021.
ATTACH;FMTTYPE=image/jpeg:https://www.molinetownship.com/wp-content/upload
 s/2019/02/gray_wolf_band_header_1500x650.jpg
CATEGORIES:MAC
LOCATION:Moline Township Activity Center\, 620 18th Street\, Moline\, IL\, 
 IL\, 61265\, United States
X-APPLE-STRUCTURED-LOCATION;VALUE=URI;X-ADDRESS=620 18th Street\, Moline\, 
 IL\, IL\, 61265\, United States;X-APPLE-RADIUS=100;X-TITLE=Moline Township
  Activity Center:geo:0,0
END:VEVENT
END:VCALENDAR