
BEGIN:VCALENDAR
VERSION:2.0
PRODID:-//wp-events-plugin.com//7.2.3.1//EN
BEGIN:VEVENT
UID:51@molinetownship.com
DTSTART:20220606T183000Z
DTEND:20220606T203000Z
DTSTAMP:20220606T191945Z
URL:https://www.molinetownship.com/events/gray-wolf-band-06-06-2022/
SUMMARY:Gray Wolf Band (CANCELED)
DESCRIPTION:This concert has been CANCELED due to the weather.
ATTACH;FMTTYPE=image/jpeg:https://www.molinetownship.com/wp-content/upload
 s/2019/02/gray_wolf_band_header_1500x650.jpg
CATEGORIES:MAC
LOCATION:Moline Township Activity Center\, 620 18th Street\, Moline\, IL\, 
 IL\, 61265\, United States
X-APPLE-STRUCTURED-LOCATION;VALUE=URI;X-ADDRESS=620 18th Street\, Moline\, 
 IL\, IL\, 61265\, United States;X-APPLE-RADIUS=100;X-TITLE=Moline Township
  Activity Center:geo:0,0
END:VEVENT
END:VCALENDAR