
BEGIN:VCALENDAR
VERSION:2.0
PRODID:-//wp-events-plugin.com//7.2.3.1//EN
BEGIN:VEVENT
UID:33@molinetownship.com
DTSTART:20201005T210000Z
DTEND:20201005T233000Z
DTSTAMP:20201001T160139Z
URL:https://www.molinetownship.com/events/cruise-into-fall/
SUMMARY:Cruise Into Fall
DESCRIPTION:4 pm - 5:30 pm - Food Will Be Sold (Sloppy Joes &amp\; Desert)\
 n\n5 pm - 6:30 pm - Elvis Show featuring Mike Clardie\, formally with Coup
 e DeVille band. This performance will take place outside in the park. Mike
  has performed in Vegas and puts on a really good show. Bring your lawn ch
 air &amp\; your "Blue Suede Shoes".\n\n4 pm - 6 pm - 50/50 ($1 per ticket\
 , $5 for 6 tickets or $10 for 20) drawing @ 6:30 pm. (must be present to w
 in)\n\n4 pm - 6 pm - Enter to win gift baskets/prizes ($1 per ticket\, $5 
 for 6 tickets or $10 for 20).\n\nThis event was originally scheduled for S
 aturday\, October 3rd but due to weather\, we are having the event on Mond
 ay. Weather forecast showing 61 degrees and sunny!
ATTACH;FMTTYPE=image/jpeg:https://www.molinetownship.com/wp-content/upload
 s/2020/09/live_music_concert_featured_image_1920x1280.jpg
CATEGORIES:MAC
LOCATION:Moline Township Activity Center\, 620 18th Street\, Moline\, IL\, 
 IL\, 61265\, United States
X-APPLE-STRUCTURED-LOCATION;VALUE=URI;X-ADDRESS=620 18th Street\, Moline\, 
 IL\, IL\, 61265\, United States;X-APPLE-RADIUS=100;X-TITLE=Moline Township
  Activity Center:geo:0,0
END:VEVENT
END:VCALENDAR